Workbook

Sheet Macro-commandes
A1: ='Carte Identité'!A1 -> SYNTHESE ANALYTIQUE | C1: Administration communale de:
A3: Gestion informatique du document. | B3: Commandes :
A5: Cliquez sur la commande>>>
C7: Enregistré

Sheet Coordonnées
A1: SYNTHÈSE ANALYTIQUE | B1: Administration communale de | C1: GOUVY | D1: Code INS | E1: 82037
D2: Exercice: | E2: 2024
A3: Modèle officiel généré par l'application eComptes © SPW Intérieur et Action Sociale | D3: Version: | E3: 4.02
A5: Commune de : | B5: GOUVY
A6: Adresse de l'administration: | B6: BOVIGNY 59
B7: 6671 GOUVY
A10: Adresse du site internet: | B10: www.gouvy.be
A12: Directeur Général: | B12: DELPHINE NEVE
A13: Tél: | B13: 080.29.29.21
A14: Fax: | B14: 080.29.29.39
A15: Email: | B15: delphine.neve@gouvy.be
A17: Directeur Financier: | B17: Marie LAMBERTZ
A18: Tél: | B18: 080.29.29.49
A19: Fax: | B19: 080.29.29.39
A20: Email: | B20: marie.lambertz@gouvy.be
A22: Service des Finances, personne de contact:

Sheet Table des matières
A1: SYNTHESE ANALYTIQUE | C1: Administration communale de: | F1: =Coordonnées!C1 -> GOUVY | H1: Code INS | I1: =Coordonnées!E1 -> 82037
H2: Exercice: | I2: =Coordonnées!E2 -> 2024
B4: Table des matières
A5: 1 | B5: Tableau de bord général de la commune
C6: 1-a: Carte d'identité de la commune
C7: 1-b: Evolution des résultats bugétaires ordinaires
A8: 2 | B8: Evolution des principales données budgétaires
C9: 2-1: Recettes et dépenses ordinaires et taux de réalisation du budget
C10: 2-2: Les recettes ordinaires
C11: 2-3: Les dépenses ordinaires
C12: 2-4: Les dépenses de personnel
C13: 2-5: Les dépenses extraordinaires d'investissement
C14: 2-6: Le financement des investissements:
C15: 2-7: Le financement des investissements les imputations:
A16: 3 | B16: Analyse des charges et des produits
C17: 3-1 Evolution des charges et produits courants
A18: 4 | B18: Etat des créances restant à recouvrer au 31/12
A19: 5 | B19: Etat de l'endettement de la commune
C20: 5-1 La dette financière (investissements + assainissement)
C21: 5-2 La dette à court terme (Fournisseurs, tiers …)
A22: 6 | B22: Etat et fluctuation de la trésorerie
C23: 6-1 Etat et rendement de la trésorerie
C24: 6-2 Evolution sur le dernier exercice
A25: 7 | B25: Etat des réserves et des provisions
A26: 8 | B26: Tableau synthétique des mutations de l'actif immobilisé
A27: 9 | B27: Droits et engagements hors bilan
A28: 10 | B28: Récapitulatif par secteur des tiers disposant d'une aide financière
A29: 11 | B29: Les principaux fournisseurs
A30: 12 | B30: Indicateurs et ratios
A31: 13 | B31: Note du Receveur, explication des principaux écarts

Sheet Carte Identité
A1: SYNTHESE ANALYTIQUE | D1: Administration communale de: | G1: =Coordonnées!C1 -> GOUVY | K1: Code INS | L1: =Coordonnées!E1 -> 82037
K2: Exercice: | L2: =Coordonnées!E2 -> 2024
A4: 1. Tableau de bord général
A5: 1.a: Carte d'identité de la commune | D5: Situation au 31 décembre | F5: =L2 -> 2024
A7: Objet: | B7: Exercice | C7: Chiffres:
B8: =L2 -> 2024
A9: Superficie (km2) | B9: =L2 -> 2024 | C9: 165.11
D10: Densité de population
D11: au Km2
A12: Population | B12: =B13-1 -> 2021 | C12: 5403 | D12: =IF(C9=0,"",C12/C9) -> 32.723639
B13: =B14-1 -> 2022 | C13: 5487 | D13: =IF(C9=0,"",C13/C9) -> 33.232391
B14: =B15-1 -> 2023 | C14: 5473 | D14: =IF(C9=0,"",C14/C9) -> 33.147599
B15: =L2 -> 2024 | C15: 5465 | D15: =IF(C9=0,"",C15/C9) -> 33.099146
A16: Population scolaire | B16: =B17-1 -> 2021 | C16: 570
A17: (nombre d'élèves au 31/12 | B17: =B18-1 -> 2022 | C17: 580
A18: inscrits dans le réseau | B18: =B19-1 -> 2023 | C18: 613
A19: communal) | B19: =L2 -> 2024 | C19: 562
D20: m de voirie /hab.
A21: Voirie communale (kms) | B21: =L2 -> 2024 | C21: 543.71 | D21: =IF(C15=0,"",C21*1000/C15) -> 99.489478
A23: Membre de la zone de police de : | B23: ZP FAMENNE-ARDENNE | D23: Composée des communes de: | G23: DURBUY, EREZEE, HOTTON, GOUVY, HOUFFALIZE, LA ROCHE-EN-ARDENNE, MANHAY, MARCHE-EN-FAMENNE, NASSOGNE, RENDEUX, TENNEVILLE, VIELSALM
A25: Membre du service incendie de : | B25: LUXEMBOURG | D25: Type de centre: | F25: 0
A26: Contrat de sécurité Oui/Non: | B26: Non
A27: Régies autonomes: | B27: DURBUY, EREZEE, HOTTON, GOUVY, HOUFFALIZE, LA ROCHE-EN-ARDENNE, MANHAY, MARCHE-EN-FAMENNE, NASSOGNE, RENDEUX, TENNEVILLE, VIELSALM
A28: Régies non-autonomes: | B28: DURBUY, EREZEE, HOTTON, GOUVY, HOUFFALIZE, LA ROCHE-EN-ARDENNE, MANHAY, MARCHE-EN-FAMENNE, NASSOGNE, RENDEUX, TENNEVILLE, VIELSALM
B30: Additionnel à l' IPP | F30: Additionnel au précompte immobilier
B31: =C31-1 -> 2021 | C31: =D31-1 -> 2022 | D31: =E31-1 -> 2023 | E31: =L2 -> 2024 | F31: =G31-1 -> 2021 | G31: =H31-1 -> 2022 | H31: =I31-1 -> 2023 | I31: =L2 -> 2024
A32: Taux | B32: 8 | C32: 8 | D32: 8 | E32: 8 | F32: 2700 | G32: 2700 | H32: 2700 | I32: 2700
A33: Rendement de l'additionnel | B33: =IF(B32=0,"",'Recettes budgétaires ordinaires'!B$21/B32) -> 104839.02 | C33: =IF(C32=0,"",'Recettes budgétaires ordinaires'!C$21/C32) -> 108193.46 | D33: =IF(D32=0,"",'Recettes budgétaires ordinaires'!D$21/D32) -> 155304.34 | E33: =IF(E32=0,"",'Recettes budgétaires ordinaires'!E$21/E32) -> 134501.83 | F33: =IF(F32=0,"",'Recettes budgétaires ordinaires'!B20/F32) -> 489.56241 | G33: =IF(G32=0,"",'Recettes budgétaires ordinaires'!C20/G32) -> 504.59746 | H33: =IF(H32=0,"",'Recettes budgétaires ordinaires'!D20/H32) -> 646.61526 | I33: =IF(I32=0,"",'Recettes budgétaires ordinaires'!E20/I32) -> 665.84141
A34: ( % / centime)
A36: Nombre de personnes occupées par la commune : | D36: 90 | E36: soit : | F36: 64.610001 | G36: équivalents temps-plein.

Sheet Résultat Budgétaire
A1: SYNTHESE ANALYTIQUE | D1: Administration communale de: | F1: =Coordonnées!C1 -> GOUVY | K1: Code INS | L1: =Coordonnées!E1 -> 82037
K2: Exercice: | L2: =Coordonnées!E2 -> 2024
A4: 1. Tableau de bord général
A5: 1.b: Evolution des résultats budgétaires ordinaires:
B8: Résultat budgétaire ordinaire *
A9: Exercices: | B9: =C9-1 -> 2021 | C9: =D9-1 -> 2022 | D9: =E9-1 -> 2023 | E9: =L2 -> 2024
A10: Résultat reporté des ex.antérieurs | B10: 2536711.3 | C10: 2605770.6 | D10: 2260409 | E10: 3606895.1
A11: Solde des opérations ex. antérieurs | B11: -194748.9 | C11: -260259.62 | D11: -356813.82 | E11: -340791.26
A12: Résultats Exercices antérieurs | B12: =SUM(B10:B11) -> 2341962.4 | C12: =SUM(C10:C11) -> 2345511 | D12: =SUM(D10:D11) -> 1903595.2 | E12: =SUM(E10:E11) -> 3266103.8
A13: Solde des opérations de l'exercice propres | B13: 979872.18 | C13: 1148343.6 | D13: 1866770.6 | E13: 1648190.4
A14: Solde net des opérations de prélèvt hors 060 | B14: 5600 | C14: -218100 | D14: -158762 | E14: -692800
A15: Résultats Exercice Propre | B15: =SUM(B13:B14) -> 985472.18 | C15: =SUM(C13:C14) -> 930243.58 | D15: =SUM(D13:D14) -> 1708008.6 | E15: =SUM(E13:E14) -> 955390.36
A16: Prélèvements (060) | B16: -1000000 | C16: -1300000 | D16: -500000 | E16: -1500000
A17: Résultat global: | B17: =B12+B15+B16 -> 2327434.6 | C17: =C12+C15+C16 -> 1975754.6 | D17: =D12+D15+D16 -> 3111603.8 | E17: =E12+E15+E16 -> 2721494.2
A38: 1.b.2. | B38: Ventilation économique des résultats budgétaires
B40: Dépenses ordinaires (engagements actés aux comptes)
B41: =C41-1 -> 2021 | C41: =D41-1 -> 2022 | D41: =E41-1 -> 2023 | E41: =L2 -> 2024
A42: Personnel | B42: ='Dépenses budgétaires ordinaires'!B18 -> 3684175.1 | C42: ='Dépenses budgétaires ordinaires'!C18 -> 4136181.7 | D42: ='Dépenses budgétaires ordinaires'!D18 -> 4596422.3 | E42: ='Dépenses budgétaires ordinaires'!E18 -> 4824270.6
A43: Fonctionnement | B43: ='Dépenses budgétaires ordinaires'!B34 -> 2564954.9 | C43: ='Dépenses budgétaires ordinaires'!C34 -> 2910476.5 | D43: ='Dépenses budgétaires ordinaires'!D34 -> 3280422.4 | E43: ='Dépenses budgétaires ordinaires'!E34 -> 3283027.7
A44: Transferts | B44: ='Dépenses budgétaires ordinaires'!B46 -> 1705323.6 | C44: ='Dépenses budgétaires ordinaires'!C46 -> 1638368.1 | D44: ='Dépenses budgétaires ordinaires'!D46 -> 1730310.3 | E44: ='Dépenses budgétaires ordinaires'!E46 -> 1883242.5
A45: Dette | B45: ='Dépenses budgétaires ordinaires'!B56 -> 1121663.8 | C45: ='Dépenses budgétaires ordinaires'!C56 -> 1206352.5 | D45: ='Dépenses budgétaires ordinaires'!D56 -> 1224868.5 | E45: ='Dépenses budgétaires ordinaires'!E56 -> 1133917.8
A46: Prélèvements | B46: ='Dépenses budgétaires ordinaires'!B57 -> 0 | C46: ='Dépenses budgétaires ordinaires'!C57 -> 649000 | D46: ='Dépenses budgétaires ordinaires'!D57 -> 164762 | E46: ='Dépenses budgétaires ordinaires'!E57 -> 750000
A47: Total (exercice propre) | B47: =SUM(B42:B46) -> 9076117.3 | C47: =SUM(C42:C46) -> 10540379 | D47: =SUM(D42:D46) -> 10996786 | E47: =SUM(E42:E46) -> 11874459
A48: Exercices antérieurs | B48: ='Dépenses budgétaires ordinaires'!B59+'Dépenses budgétaires ordinaires'!B60 -> 401891.3 | C48: ='Dépenses budgétaires ordinaires'!C59+'Dépenses budgétaires ordinaires'!C60 -> 328990.91 | D48: ='Dépenses budgétaires ordinaires'!D59+'Dépenses budgétaires ordinaires'!D60 -> 483152.19 | E48: ='Dépenses budgétaires ordinaires'!E59+'Dépenses budgétaires ordinaires'!E60 -> 510401.83
A49: Prélèvements | B49: ='Dépenses budgétaires ordinaires'!B61 -> 1000000 | C49: ='Dépenses budgétaires ordinaires'!C61 -> 1300000 | D49: ='Dépenses budgétaires ordinaires'!D61 -> 500000 | E49: ='Dépenses budgétaires ordinaires'!E61 -> 1500000
A50: Total général | B50: =SUM(B47:B49) -> 10478009 | C50: =SUM(C47:C49) -> 12169370 | D50: =SUM(D47:D49) -> 11979938 | E50: =SUM(E47:E49) -> 13884860
B52: Recettes ordinaires (Droits actés aux comptes)
B53: =C53-1 -> 2021 | C53: =D53-1 -> 2022 | D53: =E53-1 -> 2023 | E53: =L2 -> 2024
A54: Prestation | B54: ='Recettes budgétaires ordinaires'!B14 -> 2408802.7 | C54: ='Recettes budgétaires ordinaires'!C14 -> 2440173.4 | D54: ='Recettes budgétaires ordinaires'!D14 -> 2633239.8 | E54: ='Recettes budgétaires ordinaires'!E14 -> 2800235.5
A55: Transferts | B55: ='Recettes budgétaires ordinaires'!B43 -> 7609501.6 | C55: ='Recettes budgétaires ordinaires'!C43 -> 8563963.6 | D55: ='Recettes budgétaires ordinaires'!D43 -> 9972752.6 | E55: ='Recettes budgétaires ordinaires'!E43 -> 9643496.8
A56: Dette | B56: ='Recettes budgétaires ordinaires'!B52 -> 37685.17 | C56: ='Recettes budgétaires ordinaires'!C52 -> 35585.37 | D56: ='Recettes budgétaires ordinaires'!D52 -> 92801.78 | E56: ='Recettes budgétaires ordinaires'!E52 -> 328916.68
A57: Prélèvements | B57: ='Recettes budgétaires ordinaires'!B53 -> 5600 | C57: ='Recettes budgétaires ordinaires'!C53 -> 430900 | D57: ='Recettes budgétaires ordinaires'!D53 -> 6000 | E57: ='Recettes budgétaires ordinaires'!E53 -> 57200
A58: Total (exercice propre) | B58: =SUM(B54:B57) -> 10061589 | C58: =SUM(C54:C57) -> 11470622 | D58: =SUM(D54:D57) -> 12704794 | E58: =SUM(E54:E57) -> 12829849
A59: Exercices antérieurs | B59: ='Recettes budgétaires ordinaires'!B55+'Recettes budgétaires ordinaires'!B56 -> 2743853.7 | C59: ='Recettes budgétaires ordinaires'!C55+'Recettes budgétaires ordinaires'!C56 -> 2674501.9 | D59: ='Recettes budgétaires ordinaires'!D55+'Recettes budgétaires ordinaires'!D56 -> 2386747.4 | E59: ='Recettes budgétaires ordinaires'!E55+'Recettes budgétaires ordinaires'!E56 -> 3776505.7
A60: Prélèvements | B60: ='Recettes budgétaires ordinaires'!B57 -> 0 | C60: ='Recettes budgétaires ordinaires'!C57 -> 0 | D60: ='Recettes budgétaires ordinaires'!D57 -> 0 | E60: ='Recettes budgétaires ordinaires'!E57 -> 0
A61: Total général | B61: =SUM(B58:B60) -> 12805443 | C61: =SUM(C58:C60) -> 14145124 | D61: =SUM(D58:D60) -> 15091542 | E61: =SUM(E58:E60) -> 16606355

Sheet Taux de réalisation du budget
A1: SYNTHESE ANALYTIQUE | C1: Administration communale de: | E1: =Coordonnées!C1 -> GOUVY | H1: Code INS | I1: =Coordonnées!E1 -> 82037
H2: Exercice: | I2: =Coordonnées!E2 -> 2024
A4: Evolution durant l'exercice des principales données budgétaires - exercice propre / hors prélèvement
B5: 2-1: Recettes et dépenses ordinaire et taux de réalisation du budget
A7: DEPENSES
H8: Dépenses par habitant (engagements)
B9: Budget initial (BI) | C9: Budget final (BF) | D9: Engagements (compte) | E9: Taux de réalisation
E10: BF/BI | F10: Compte/BI | G10: Compte/BF
A11: Personnel | B11: 5223618.7 | C11: 4928433.8 | D11: 4824270.6 | E11: =IF(B11<>0,C11/B11,"") -> 0.94349036 | F11: =IF(B11<>0,D11/B11,"") -> 0.92354954 | G11: =IF(C11<>0,D11/C11,"") -> 0.97886484 | H11: =IF('Carte Identité'!$C$15<>0,D11/'Carte Identité'!$C$15,0) -> 882.75766
A12: Fonctionnement | B12: 3813176.1 | C12: 4007176.6 | D12: 3283027.7 | E12: =IF(B12<>0,C12/B12,"") -> 1.0508763 | F12: =IF(B12<>0,D12/B12,"") -> 0.86096932 | G12: =IF(C12<>0,D12/C12,"") -> 0.819287 | H12: =IF('Carte Identité'!$C$15<>0,D12/'Carte Identité'!$C$15,0) -> 600.73699
A13: Transferts | B13: 1918247.3 | C13: 1986158.1 | D13: 1883242.5 | E13: =IF(B13<>0,C13/B13,"") -> 1.0354025 | F13: =IF(B13<>0,D13/B13,"") -> 0.98175167 | G13: =IF(C13<>0,D13/C13,"") -> 0.94818361 | H13: =IF('Carte Identité'!$C$15<>0,D13/'Carte Identité'!$C$15,0) -> 344.60064
A14: Dette | B14: 1366952.6 | C14: 1168198.4 | D14: 1133917.8 | E14: =IF(B14<>0,C14/B14,"") -> 0.85460049 | F14: =IF(B14<>0,D14/B14,"") -> 0.82952241 | G14: =IF(C14<>0,D14/C14,"") -> 0.97065521 | H14: =IF('Carte Identité'!$C$15<>0,D14/'Carte Identité'!$C$15,0) -> 207.48725
A15: Total | B15: =SUM(B11:B14) -> 12321995 | C15: =SUM(C11:C14) -> 12089967 | D15: =SUM(D11:D14) -> 11124459 | E15: =IF(B15<>0,C15/B15,"") -> 0.98116962 | F15: =IF(B15<>0,D15/B15,"") -> 0.90281313 | G15: =IF(C15<>0,D15/C15,"") -> 0.92013971 | H15: =IF('Carte Identité'!$C$15<>0,D15/'Carte Identité'!$C$15,0) -> 2035.5825
A17: RECETTES
H18: Recettes par habitant (droits constatés)
B19: Budget initial (BI) | C19: Budget final (BF) | D19: Droits constatés (compte) | E19: Taux de réalisation
E20: BF/BI | F20: Compte/BI | G20: Compte/BF
A21: Prestation | B21: 2490269 | C21: 2601072.6 | D21: 2800235.5 | E21: =IF(B21<>0,C21/B21,"") -> 1.0444946 | F21: =IF(B21<>0,D21/B21,"") -> 1.1244711 | G21: =IF(C21<>0,D21/C21,"") -> 1.0765695 | H21: =IF('Carte Identité'!$C$15<>0,D21/'Carte Identité'!$C$15,0) -> 512.39441
A22: Transferts | B22: 9664911.7 | C22: 9614139.9 | D22: 9643496.8 | E22: =IF(B22<>0,C22/B22,"") -> 0.99474679 | F22: =IF(B22<>0,D22/B22,"") -> 0.99778426 | G22: =IF(C22<>0,D22/C22,"") -> 1.0030535 | H22: =IF('Carte Identité'!$C$15<>0,D22/'Carte Identité'!$C$15,0) -> 1764.5923
A23: Dette | B23: 155525.5 | C23: 328059.5 | D23: 328916.68 | E23: =IF(B23<>0,C23/B23,"") -> 2.1093615 | F23: =IF(B23<>0,D23/B23,"") -> 2.114873 | G23: =IF(C23<>0,D23/C23,"") -> 1.0026129 | H23: =IF('Carte Identité'!$C$15<>0,D23/'Carte Identité'!$C$15,0) -> 60.186035
A24: Total | B24: =SUM(B21:B23) -> 12310706 | C24: =SUM(C21:C23) -> 12543272 | D24: =SUM(D21:D23) -> 12772649 | E24: =IF(B24<>0,C24/B24,"") -> 1.0188913 | F24: =IF(B24<>0,D24/B24,"") -> 1.0375237 | G24: =IF(C24<>0,D24/C24,"") -> 1.0182869 | H24: =IF('Carte Identité'!$C$15<>0,D24/'Carte Identité'!$C$15,0) -> 2337.1727

Sheet Recettes budgétaires ordinaires
A1: SYNTHESE ANALYTIQUE | B1: Administration communale de: | D1: =Coordonnées!C1 -> GOUVY | G1: Code INS | H1: =Coordonnées!E1 -> 82037
G2: Exercice: | H2: =Coordonnées!E2 -> 2024
B4: Les recettes
A5: 2 | B5: Evolution durant l'exercice des principales données budgétaires - exercice propre / hors prélèvement
A7: Exercices: | B7: =C7-1 -> 2021 | C7: =D7-1 -> 2022 | D7: =E7-1 -> 2023 | E7: =H2 -> 2024
A8: RECETTES DE PRESTATIONS
A9: Vente de bois | B9: 481889.68 | C9: 623346.14 | D9: 645036.4 | E9: 709953.34
A10: Locations patrimoine | B10: 143388.02 | C10: 150347.26 | D10: 156741.97 | E10: 159745.59
A11: Vente d'eau | B11: 1486595.8 | C11: 1340077.4 | D11: 1456050.6 | E11: 1530550.8
A12: Recettes des installations culturelles et sportives | B12: 13267.66 | C12: 20623.56 | D12: 19387.55 | E12: 37549.64
A13: Autres | B13: 283661.53 | C13: 305779.05 | D13: 356023.34 | E13: 362436.13 | G13: Variations en pourcentage:
A14: Sous-total prestations | B14: 2408802.7 | C14: 2440173.4 | D14: 2633239.8 | E14: 2800235.5 | G14: =C7 -> 2022 | H14: =D7 -> 2023 | I14: =E7 -> 2024
A15: RECETTES DE TRANSFERTS | F15: Prestations | G15: =IF(B14=0,"",(C14-B14)/B14) -> 0.013023379 | H15: =IF(C14=0,"",(D14-C14)/C14) -> 0.079119946 | I15: =IF(D14=0,"",(E14-D14)/D14) -> 0.063418322
A16: Fonds des communes : dotation principale | B16: 2701491.7 | C16: 3138535.9 | D16: 3393050.2 | E16: 3436423.6 | F16: Transferts | G16: =IF(B43=0,"",(C43-B43)/B43) -> 0.12543028 | H16: =IF(C43=0,"",(D43-C43)/C43) -> 0.16450199 | I16: =IF(D43=0,"",(E43-D43)/D43) -> -0.033015534
A17: Fonds des communes : dotation spécifique | B17: 0 | C17: 0 | D17: 0 | E17: 0 | F17: Dette | G17: =IF(B52=0,"",(C52-B52)/B52) -> -0.055719531 | H17: =IF(C52=0,"",(D52-C52)/C52) -> 1.6078633 | I17: =IF(D52=0,"",(E52-D52)/D52) -> 2.5442928
A18: Tonus axe 1 | B18: 0 | C18: 0 | D18: 0 | E18: 0 | F18: Totaux | G18: =IF(B54=0,"",(C54-B54)/B54) -> 0.14004078 | H18: =IF(C54=0,"",(D54-C54)/C54) -> 0.10759415 | I18: =IF(D54=0,"",(E54-D54)/D54) -> 0.0098431189
A19: Sous-total Fonds des communes | B19: =SUM(B16:B18) -> 2701491.7 | C19: =SUM(C16:C18) -> 3138535.9 | D19: =SUM(D16:D18) -> 3393050.2 | E19: =SUM(E16:E18) -> 3436423.6
A20: Précompte immobilier | B20: 1321818.5 | C20: 1362413.1 | D20: 1745861.2 | E20: 1797771.8
A21: IPP | B21: 838712.16 | C21: 865547.68 | D21: 1242434.7 | E21: 1076014.7
A22: Taxes automobiles | B22: 84265.81 | C22: 89444.86 | D22: 94819.15 | E22: 99861.73
A23: Autres taxes additionnelles | B23: 0 | C23: 0 | D23: 0 | E23: 0
A24: Sous-total "taxes additionnelles" | B24: =SUM(B20:B23) -> 2244796.5 | C24: =SUM(C20:C23) -> 2317405.7 | D24: =SUM(D20:D23) -> 3083115 | E24: =SUM(E20:E23) -> 2973648.2 | G24: Traitement des déchets ménagers
A25: Taxe sur immondices | B25: 504836 | C25: 505275 | D25: 514115.98 | E25: 501715 | G25: =B7 -> 2021 | H25: =C7 -> 2022 | I25: =D7 -> 2023 | J25: =E7 -> 2024
A26: Vente sacs | B26: 14747.5 | C26: 19257 | D26: 14910 | E26: 17035 | F26: Recettes: | G26: =B25+B26 -> 519583.5 | H26: =C25+C26 -> 524532 | I26: =D25+D26 -> 529025.98 | J26: =E25+E26 -> 518750
A27: Taxes industrielles, commerciales et agricoles | B27: 60772.11 | C27: 72164.09 | D27: 71640.32 | E27: 68656.11 | F27: Dépenses : | G27: ='Dépenses budgétaires ordinaires'!B40 -> 0 | H27: ='Dépenses budgétaires ordinaires'!C40 -> 0 | I27: ='Dépenses budgétaires ordinaires'!D40 -> 0 | J27: ='Dépenses budgétaires ordinaires'!E40 -> 0
A28: Autres taxes locales | B28: 180207.96 | C28: 202532.8 | D28: 215666.02 | E28: 238641.11 | F28: Résultat: | G28: =G26-G27 -> 519583.5 | H28: =H26-H27 -> 524532 | I28: =I26-I27 -> 529025.98 | J28: =J26-J27 -> 518750
A29: Sous-total "taxes locales" | B29: =SUM(B25:B28) -> 760563.57 | C29: =SUM(C25:C28) -> 799228.89 | D29: =SUM(D25:D28) -> 816332.32 | E29: =SUM(E25:E28) -> 826047.22
A30: Total des recettes fiscales | B30: =B29+B24 -> 3005360 | C30: =C29+C24 -> 3116634.6 | D30: =D29+D24 -> 3899447.4 | E30: =E29+E24 -> 3799695.4
A31: Subventions pour le personnel enseignant | B31: 5733 | C31: 6332.94 | D31: 6749.7 | E31: 7795.2
A32: Subventions APE | B32: 284050.13 | C32: 647141.48 | D32: 701122.2 | E32: 697877.04
A33: Total des subventions pour le personnel | B33: =SUM(B31:B32) -> 289783.13 | C33: =SUM(C31:C32) -> 653474.42 | D33: =SUM(D31:D32) -> 707871.9 | E33: =SUM(E31:E32) -> 705672.24
A34: Subventions fonctionnement enseignement | B34: 279478.68 | C34: 321620.5 | D34: 362786.88 | E34: 381485.83
A35: Quote-part incendie | B35: 0 | C35: 0 | D35: 0 | E35: 0
A36: Contrat de sécurité | B36: 0 | C36: 0 | D36: 0 | E36: 0
A37: Subventions "politique Grandes Villes" | B37: 0 | C37: 0 | D37: 0 | E37: 0
A38: Remboursement emprunts part Etat | B38: 16249.6 | C38: 16249.6 | D38: 16249.6 | E38: 16249.6
A39: Remboursement CRAC | B39: 2150.8 | C39: 2150.8 | D39: 2150.81 | E39: 1593.23
A40: Autres subventions & transferts | B40: =B43-B42-B30-B35-B36-B37-B38-B39-B33-B19-B34 -> 1314987.7 | C40: =C43-C42-C30-C35-C36-C37-C38-C39-C33-C19-C34 -> 1315297.8 | D40: =D43-D42-D30-D35-D36-D37-D38-D39-D33-D19-D34 -> 1591195.8 | E40: =E43-E42-E30-E35-E36-E37-E38-E39-E33-E19-E34 -> 1302376.9
A41: Sous-total Subsides | B41: =SUM(B34:B40) -> 1612866.7 | C41: =SUM(C34:C40) -> 1655318.7 | D41: =SUM(D34:D40) -> 1972383.1 | E41: =SUM(E34:E40) -> 1701705.6
A42: Tonus axe 2
...

Sheet Dépenses budgétaires ordinaires
A1: SYNTHESE ANALYTIQUE | E1: Administration communale de: | H1: =Coordonnées!C1 -> GOUVY | K1: Code INS | L1: =Coordonnées!E1 -> 82037
K2: Exercice: | L2: =Coordonnées!E2 -> 2024
B4: Les dépenses
A5: 2 | B5: Evolution durant l'exercice des principales données budgétaires - exercice propre / hors prélèvement
B6: 2-3: Les dépenses ordinaires (dépenses engagées) | F6: Nombre de personnes occupées au 31/12
A7: Exercices: | B7: =C7-1 -> 2021 | C7: =D7-1 -> 2022 | D7: =E7-1 -> 2023 | E7: =L2 -> 2024 | F7: =G7-1 -> 2021 | G7: =H7-1 -> 2022 | H7: =I7-1 -> 2023 | I7: =L2 -> 2024
A8: DEPENSES DE PERSONNEL
A9: Traitements personnel non subsidié | B9: 941114.69 | C9: 1113211 | D9: 1245149.5 | E9: 1352697.7 | F9: 27 | G9: 34 | H9: 33 | I9: 35
A10: Traitements personnel Subsidié | B10: 1712240.4 | C10: 1902970.6 | D10: 2033832 | E10: 2197605.9 | F10: 53 | G10: 55 | H10: 56 | I10: 54
A11: Traitements personnel enseignement (payé par commune) | B11: 385710.4 | C11: 424628.88 | D11: 450397.24 | E11: 378426.63
A12: Traitements personnel pompier | B12: 0 | C12: 0 | D12: 0 | E12: 0
A13: Traitements mandataires | B13: 171593.21 | C13: 195674.61 | D13: 209317.38 | E13: 217818.74
A14: Jetons de présence | B14: 11402.91 | C14: 10810.09 | D14: 11272 | E14: 10710 | F14: =SUM(F9:F13) -> 80 | G14: =SUM(G9:G13) -> 89 | H14: =SUM(H9:H13) -> 89 | I14: =SUM(I9:I13) -> 89 | J14: <Totaux
A15: Traitement enseignement subsidié à 100% | B15: 0 | C15: 0 | D15: 0 | E15: 0
A16: Assurance-loi | B16: 105266.18 | C16: 107288.15 | D16: 142496.89 | E16: 133458.93
A17: Autres | B17: 356847.34 | C17: 381598.41 | D17: 503957.35 | E17: 533552.66
A18: sous-total dép. personnel | B18: 3684175.1 | C18: 4136181.7 | D18: 4596422.3 | E18: 4824270.6 | G18: Variations en pourcentage:
A19: DEPENSES DE FONCTIONNEMENT | G19: =C7 -> 2022 | H19: =D7 -> 2023 | I19: =E7 -> 2024
A20: Frais administratifs IPP | B20: 8222.67 | C20: 8724.79 | D20: 9263.24 | E20: 10833.06 | F20: Personnel | G20: =IF(B18=0,"",(C18-B18)/B18) -> 0.1226887 | H20: =IF(C18=0,"",(D18-C18)/C18) -> 0.11127186 | I20: =IF(D18=0,"",(E18-D18)/D18) -> 0.049570784
A21: Déchets | B21: 525929.52 | C21: 526965.35 | D21: 567985.02 | E21: 503824.22 | F21: Fonctionnement | G21: =IF(B34=0,"",(C34-B34)/B34) -> 0.13470864 | H21: =IF(C34=0,"",(D34-C34)/C34) -> 0.12710839 | I21: =IF(D34=0,"",(E34-D34)/D34) -> 0.00079417821
A22: Téléphonie | B22: 30944.82 | C22: 29342.94 | D22: 24653.22 | E22: 30977.96 | F22: Transfert | G22: =IF(B46=0,"",(C46-B46)/B46) -> -0.039262637 | H22: =IF(C46=0,"",(D46-C46)/C46) -> 0.05611819 | I22: =IF(D46=0,"",(E46-D46)/D46) -> 0.088384262
A23: Correspondance | B23: 36309.56 | C23: 36844.71 | D23: 48033.6 | E23: 46110.7 | F23: Dette | G23: =IF(B56=0,"",(C56-B56)/B56) -> 0.075502806 | H23: =IF(C56=0,"",(D56-C56)/C56) -> 0.015348756 | I23: =IF(D56=0,"",(E56-D56)/D56) -> -0.074253447
A24: Carburant | B24: 70566.09 | C24: 110633.3 | D24: 99115.7 | E24: 104503.56 | F24: Totaux | G24: =IF(B58=0,"",(C58-B58)/B58) -> 0.16133126 | H24: =IF(C58=0,"",(D58-C58)/C58) -> 0.043300803 | I24: =IF(D58=0,"",(E58-D58)/D58) -> 0.079811776
A25: Consommation d'eau | B25: 3965.89 | C25: 3989.31 | D25: 3720.13 | E25: 3522.83
A26: Chauffage, électricité, gaz | B26: 88592.44 | C26: 118212.46 | D26: 170890.91 | E26: 124746.71
A27: Eclairage public | B27: 59129.38 | C27: 69000 | D27: 66692.78 | E27: 56423.8
A28: Assurances | B28: 68478.18 | C28: 68622.16 | D28: 74742.5 | E28: 79248.07
A29: Frais de la gestion informatique | B29: 115283.86 | C29: 115005.61 | D29: 112896.71 | E29: 122321.22
A30: Autres Frais de fonctionnement des bâtiments | B30: 199159.93 | C30: 168050.16 | D30: 143573.64 | E30: 154201.82
A31: Travaux et fourniture pour la voirie | B31: 72713.31 | C31: 66487.04 | D31: 134316.81 | E31: 100012.36
A32: Autres Frais techniques | B32: 964459.35 | C32: 1260314.9 | D32: 1417613.8 | E32: 1489264.4
A33: Divers | B33: 321199.88 | C33: 328283.77 | D33: 406924.36 | E33: 457036.93
A34: sous-total dép. fonctionnement | B34: 2564954.9 | C34: 2910476.5 | D34: 3280422.4 | E34: 3283027.7
A35: DEPENSES DE TRANSFERTS
A36: Intervention au CPAS | B36: 550000 | C36: 550000 | D36: 605981.46 | E36: 677310.98
A37: Intervention Zone de police | B37: 297093.24 | C37: 307459.92 | D37: 325853.37 | E37: 345350.43
A38: Intervention SRI | B38: 248789.73 | C38: 259926.33 | D38: 270711.55 | E38: 287848.93
A39: Intervention Hôpital | B39: 47503.59 | C39: 19578.01 | D39: 21354.33 | E39: 29360.46
A40: Intervention traitement des déchets | B40: 0 | C40: 0 | D40: 0 | E40: 0
A41: Intervention fabriques d'église & laïcité | B41: 82734.47 | C41: 62369.95 | D41: 80218.28 | E41: 96290.97
...

Sheet dépenses de personnel
A1: SYNTHESE ANALYTIQUE | D1: Administration communale de: | G1: =Coordonnées!C1 -> GOUVY | K1: Code INS | L1: =Coordonnées!E1 -> 82037
K2: Exercice: | L2: =Coordonnées!E2 -> 2024
A5: 2 | B5: Evolution durant l'exercice des principales données budgétaires - exercice propre / hors prélèvement
B6: 2-4 Les dépenses de personnel
A7: DEPENSES ORDINAIRES DE PERSONNEL ET DES MANDATAIRES
B8: Dépenses | C8: Recettes | D8: Coût net (D-R)
A9: =A10-1 -> 2021 | B9: 3684175.1 | C9: 289783.13 | D9: =B9-C9 -> 3394392
A10: =A11-1 -> 2022 | B10: 4136181.7 | C10: 653474.42 | D10: =B10-C10 -> 3482707.3
A11: =A12-1 -> 2023 | B11: 4596422.3 | C11: 707871.9 | D11: =B11-C11 -> 3888550.4
A12: =L2 -> 2024 | B12: 4824270.6 | C12: 705672.24 | D12: =B12-C12 -> 4118598.4
D17: Nombre personnes occupées
A18: Exercices: | D18: =E18-1 -> 2021 | E18: =F18-1 -> 2022 | F18: =G18-1 -> 2023 | G18: =L2 -> 2024
A19: Statutaires | D19: 2 | E19: 2 | F19: 2 | G19: 2
A20: Contractuels non subventionnés | D20: 25 | E20: 32 | F20: 31 | G20: 33
A21: Contractuels subventionnés | D21: 53 | E21: 55 | F21: 56 | G21: 54
A22: Totaux: | D22: =SUM(D19:D21) -> 80 | E22: =SUM(E19:E21) -> 89 | F22: =SUM(F19:F21) -> 89 | G22: =SUM(G19:G21) -> 89
D24: Coût net moyen par équivalent temps plein:
D25: =D18 -> 2021 | E25: =E18 -> 2022 | F25: =F18 -> 2023 | G25: =G18 -> 2024
D26: =IF(D22=0,"",D9/D22) -> 42429.899 | E26: =IF(E22=0,"",D10/E22) -> 39131.543 | F26: =IF(F22=0,"",D11/F22) -> 43691.578 | G26: =IF(G22=0,"",D12/G22) -> 46276.386
D28: Rapport coût net - volume des dépenses ordinaires
D29: =D25 -> 2021 | E29: =E25 -> 2022 | F29: =F25 -> 2023 | G29: =G25 -> 2024
D30: =IF('Dépenses budgétaires ordinaires'!B58=0,"",D9/'Dépenses budgétaires ordinaires'!B58) -> 0.37399164 | E30: =IF('Dépenses budgétaires ordinaires'!C58=0,"",D10/'Dépenses budgétaires ordinaires'!C58) -> 0.33041576 | F30: =IF('Dépenses budgétaires ordinaires'!D58=0,"",D11/'Dépenses budgétaires ordinaires'!D58) -> 0.35360792 | G30: =IF('Dépenses budgétaires ordinaires'!E58=0,"",D12/'Dépenses budgétaires ordinaires'!E58) -> 0.34684515
D32: Evolution en pourcentage
D33: =D29 -> 2021 | E33: =E29 -> 2022 | F33: =F29 -> 2023 | G33: =G29 -> 2024
C34: Dépenses brutes | E34: =IF(B9=0,"",(B10-B9)/B9) -> 0.1226887 | F34: =IF(B10=0,"",(B11-B10)/B10) -> 0.11127186 | G34: =IF(B11=0,"",(B12-B11)/B11) -> 0.049570784
C35: Recettes | E35: =IF(C9=0,"",(C10-C9)/C9) -> 1.2550465 | F35: =IF(C10=0,"",(C11-C10)/C10) -> 0.083243473 | G35: =IF(C11=0,"",(C12-C11)/C11) -> -0.0031074266
C36: Coût net | E36: =IF(D9=0,"",(D10-D9)/D9) -> 0.026018018 | F36: =IF(D10=0,"",(D11-D10)/D10) -> 0.11653094 | G36: =IF(D11=0,"",(D12-D11)/D11) -> 0.059160328

Sheet compte de résultats
A1: SYNTHESE ANALYTIQUE | B1: Administration communale de: | D1: =Coordonnées!C1 -> GOUVY | F1: Code INS | G1: =Coordonnées!E1 -> 82037
F2: Exercice: | G2: =Coordonnées!E2 -> 2024
A4: 3-1 Compte de résultats- Evolution | B4: Cash-Flow et taux de couverture des emprunts
A6: Exercices: | B6: =C6-1 -> 2021 | C6: =D6-1 -> 2022 | D6: =E6-1 -> 2023 | E6: =G2 -> 2024
A8: Charges courantes | B8: 9170168.4 | C8: 9912764.3 | D8: 10802279 | E8: 11142157 | F8: A
A10: Produits courants | B10: 10163145 | C10: 11090569 | D10: 12761842 | E10: 12891997 | F10: B
A12: Résultats courants | B12: =B10-B8 -> 992976.78 | C12: =C10-C8 -> 1177804.9 | D12: =D10-D8 -> 1959562.7 | E12: =E10-E8 -> 1749840.1
A14: Récupération des produits d'emprunts | B14: 23313.83 | C14: 17249.6 | D14: 17249.6 | E14: 17249.6 | F14: C
A15: Produits exceptionnels | B15: 222246.12 | C15: 493410.53 | D15: 126941.67 | E15: 167987.36 | F15: D
A16: Remboursement des emprunts | B16: 877195.53 | C16: 952916.04 | D16: 968225.43 | E16: 898127.35 | F16: E
A17: Charges exceptionnelles | B17: 84476.66 | C17: 7747.95 | D17: 17605.6 | E17: 218910.7 | F17: F
A18: Cash-Flow | B18: =(B10-B14+B15)-(B8-B16+B17) -> 1984627.9 | C18: =(C10-C14+C15)-(C8-C16+C17) -> 2599133.9 | D18: =(D10-D14+D15)-(D8-D16+D17) -> 3019874.6 | E18: =(E10-E14+E15)-(E8-E16+E17) -> 2579794.5 | F18: (B-C+D)-(A-E+F)
A20: Le Cash-flow peut être considéré comme le surplus financier généré par l'activité communale au cours de l'exercice. Le cash-flow permet de calculer le ratio suivant qui donne une idée de la capacité de la commune à rembourser ses emprunts.
A21: Charges financières (voir "Dette") | B21: =Dette!C40 -> 239004.86 | C21: =Dette!D40 -> 247206.78 | D21: =Dette!E40 -> 249774.1 | E21: =Dette!F40 -> 229304.28 | F21: G
A22: Ratio de couverture des emprunts: | B22: =IF((B16-B14+B21)=0,"",(B18+B21)/(B16-B14+B21)) -> 2.0346419 | C22: =IF((C16-C14+C21)=0,"",(C18+C21)/(C16-C14+C21)) -> 2.4062939 | D22: =IF((D16-D14+D21)=0,"",(D18+D21)/(D16-D14+D21)) -> 2.7230055 | E22: =IF((E16-E14+E21)=0,"",(E18+E21)/(E16-E14+E21)) -> 2.5303046 | F22: (CF+G)/(E-C+G)
A24: Le ratio de couverture des emprunts par le cash-flow = (Cash-flow + Charges financières) / (Remboursements d'emprunts – Récupérations de remboursements + Charges financières) Plus ce ratio est supérieur à l'unité plus la commune peut emprunter à l'avenir sans être obligée d'augmenter ses produits ou de diminuer ses charges. Dans ce calcul, les charges financières sont les intérêts des emprunts, et les remboursements leurs amortissements.

Sheet créances
A1: SYNTHESE ANALYTIQUE | C1: Administration communale de: | E1: =Coordonnées!C1 -> GOUVY | G1: Code INS | H1: =Coordonnées!E1 -> 82037
G2: Exercice: | H2: =Coordonnées!E2 -> 2024
A4: 4- Créances à recouvrer au 31/12:
E6: =Dette!C48 -> 2021 | F6: =G6-1 -> 2022 | G6: =H6-1 -> 2023 | H6: =H2 -> 2024
A7: 40001 | B7: Débiteurs taxes,redevances,produits par nature et exercice | E7: 167784.04 | F7: 174283.31 | G7: 185546.66 | H7: 176179.22
A8: 40002 | B8: Débiteurs taxes,redevances,produits par cpte partic. indivi. | E8: 0 | F8: -490 | G8: 0 | H8: 0
A9: 40003 | B9: Débiteurs de produits d'exploitation par nature et exercice | E9: 244454.7 | F9: 242554.01 | G9: 251004.52 | H9: 331185.63
A10: 40004 | B10: Débiteurs de produits d'exploitation par compte parti. indiv | E10: 170774.72 | F10: 416687.59 | G10: 316092.43 | H10: 445633.33
A11: 40700-41700 | B11: Débiteurs douteux | E11: 0 | F11: 0 | G11: 0 | H11: 0
A12: 41100 | B12: TVA récuperable sur dépenses des services assujettis | E12: 85317.76 | F12: 126485.03 | G12: 9770.44 | H12: 6270.79
A13: 41204 | B13: Impots et taxes additionnels à percevoir | E13: 47310.85 | F13: 552396.68 | G13: 66521.43 | H13: 59676.3
A14: 41301 | B14: Subsides d'investissement en capital,dons et legs | E14: 0 | F14: 0 | G14: 0 | H14: 3213.94
A15: 41302 | B15: Subsides d'exploitation | E15: 94476.46 | F15: 419927.46 | G15: 433672.56 | H15: 98186.75
A16: 41303 | B16: Emprunts | E16: 0 | F16: 0 | G16: 34476.64 | H16: 0
A17: 41304 | B17: Location-financement | E17: 0 | F17: 0 | G17: 0 | H17: 0
A18: 41306 | B18: Empunts publics | E18: 0 | F18: 0 | G18: 0 | H18: 0
A19: 415 | B19: Intérêts et dividendes | E19: 1142.08 | F19: 4285.65 | G19: 5728.03 | H19: 7313.58
A20: 416 | B20: Débiteurs divers | E20: 1500000 | F20: 8924.78 | G20: 10825.99 | H20: 34739.78
A21: 425 | B21: Récupération des emprunts et des prêts | E21: 46312 | F21: 46312 | G21: 71312 | H21: 21312
A22: 428 | B22: Crédits exigibles | E22: 0 | F22: 0 | G22: 0 | H22: 0
A23: 46101 | B23: Avances accordées et acomptes 0021 | E23: 16498.08 | F23: 16134.36 | G23: 0 | H23: 79045.12
A24: 46102 | B24: Garanties et cautionnements versés 0021 | E24: 0 | F24: 726 | G24: 726 | H24: 726
A25: 46103 | B25: Acomptes et avances au personnel communal 0021 | E25: 0 | F25: 0 | G25: 0 | H25: 0
A26: 46105 | B26: Récupérations de garanties sur emprunts 0021 | E26: 0 | F26: 0 | G26: 0 | H26: 0
D27: Totaux | E27: =SUM(E7:E26) -> 2374070.7 | F27: =SUM(F7:F26) -> 2008226.9 | G27: =SUM(G7:G26) -> 1385676.7 | H27: =SUM(H7:H26) -> 1263482.4

Sheet Investissements extraordinaires
A1: SYNTHESE ANALYTIQUE | D1: Administration communale de: | G1: =Coordonnées!C1 -> GOUVY | J1: Code INS | K1: =Coordonnées!E1 -> 82037
J2: Exercice: | K2: =Coordonnées!E2 -> 2024
E4: Evolution durant l'exercice des principales données budgétaires - exercice propre / hors prélèvement
E5: 2-5: Les dépenses extraordinaires d'investissement (groupe économique 91)
E6: Investissements (dépenses engagées dans l'exercice par nature fonctionnelle)
C7: INVESTISSEMENTS | E7: Fonctions | G7: =H7-1 -> 2021 | H7: =I7-1 -> 2022 | I7: =J7-1 -> 2023 | J7: =K2 -> 2024 | K7: Totaux
C8: (groupe économique 91) | E8: 0 Recettes et dépenses générales | G8: 0 | H8: 0 | I8: 0 | J8: 4388.91 | K8: =SUM(G8:J8) -> 4388.91
A9: Années | C9: Fonctions | E9: 1 Administration générale | G9: 56347.7 | H9: 86691.66 | I9: 140508.98 | J9: 57007.81 | K9: =SUM(G9:J9) -> 340556.15
C10: Montant total | E10: 3 Sécurité | G10: 0 | H10: 0 | I10: 0 | J10: 0 | K10: =SUM(G10:J10) -> 0
A11: =A14-1 -> 2021 | B11: Budget Initial | C11: 3134900 | E11: 4 Voiries-communications | G11: 290522.14 | H11: 1591885.2 | I11: 1402996.7 | J11: 1921036.1 | K11: =SUM(G11:J11) -> 5206440.1
A12: 917813.38 | B12: Compte (engagements) | C12: 652275.02 | E12: 5 Industrie - commerce | G12: 0 | H12: 0 | I12: 0 | J12: 0 | K12: =SUM(G12:J12) -> 0
A13: 917813.38 | E13: 6 Sylviculture- Agriculture | G13: 15500 | H13: 0 | I13: 8357.43 | J13: 342212.78 | K13: =SUM(G13:J13) -> 366070.21
A14: =A17-1 -> 2022 | B14: Budget Initial | C14: 10738500 | E14: 70>75 Enseignement | G14: 198747.96 | H14: 486427.21 | I14: 561689.14 | J14: 132164.6 | K14: =SUM(G14:J14) -> 1379028.9
A15: 917813.38 | B15: Compte (engagements) | C15: 9515104.4 | E15: 76>77 Culture et sports | G15: 59384.67 | H15: 6815900.3 | I15: 180677.18 | J15: 702730.13 | K15: =SUM(G15:J15) -> 7758692.3
A16: 917813.38 | E16: 78 Radio, télévision, presse | G16: 0 | H16: 0 | I16: 0 | J16: 0 | K16: =SUM(G16:J16) -> 0
A17: =A20-1 -> 2023 | B17: Budget Initial | C17: 4389000 | E17: 79 Culte | G17: 1345.73 | H17: 1158.03 | I17: 79000 | J17: 0 | K17: =SUM(G17:J17) -> 81503.76
A18: 917813.38 | B18: Compte (engagements) | C18: 3098685.3 | E18: 80>86 Action Sociale | G18: 0 | H18: 21205.92 | I18: 3512.55 | J18: 2768.82 | K18: =SUM(G18:J18) -> 27487.29
A19: 917813.38 | E19: 87 Santé publique et hygiène | G19: 30426.82 | H19: 511836.07 | I19: 721943.33 | J19: 638829.54 | K19: =SUM(G19:J19) -> 1903035.8
A20: =K2 -> 2024 | B20: Budget Initial | C20: 8266600 | E20: 90>92 Logement | G20: 0 | H20: 0 | I20: 0 | J20: 0 | K20: =SUM(G20:J20) -> 0
A21: 917813.38 | B21: Compte (engagements) | C21: 3801138.7 | E21: 93 Aménagement du territoire | G21: 0 | H21: 0 | I21: 0 | J21: 0 | K21: =SUM(G21:J21) -> 0
A22: 917813.38 | F22: Totaux | G22: =SUM(G8:G21) -> 652275.02 | H22: =SUM(H8:H21) -> 9515104.4 | I22: =SUM(I8:I21) -> 3098685.3 | J22: =SUM(J8:J21) -> 3801138.7 | K22: =SUM(K8:K21) -> 17067203
A23: Synthèse sur 4 ans: | B23: Budget Initial | C23: =C20+C17+C14+C11 -> 26529000
A24: 917813.38 | B24: Compte (engagements) | C24: =C21+C18+C15+C12 -> 17067203
A25: 917813.38
A27: =D9 -> 0 | B27: =D24 -> 0
A28: =E7 -> Fonctions | B28: =E24 -> 0
A29: =F7 -> 0 | B29: =F24 -> 0
A30: =G7 -> 2021 | B30: =G24 -> 0
A31: =H7 -> 2022 | B31: =H24 -> 0
A32: =I7 -> 2023 | B32: =I24 -> 0
C34: 2-6: Le financement des investissements:
C36: =D36-1 -> 2021 | D36: =E36-1 -> 2022 | E36: =F36-1 -> 2023 | F36: =K2 -> 2024 | G36: Totaux
A37: Emprunts | C37: 33826.99 | D37: 2464768.6 | E37: 139133.19 | F37: 0 | G37: =SUM(C37:F37) -> 2637728.8
A38: Subsides | C38: 236430.56 | D38: 2756834.8 | E38: 2993304.4 | F38: 379929.66 | G38: =SUM(C38:F38) -> 6366499.3
A39: Auto-financement | C39: 1146071 | D39: 2270212.5 | E39: 1836801 | F39: 2679404.6 | G39: =SUM(C39:F39) -> 7932489.2
A40: Recettes hors Boni | C40: 1416328.6 | D40: 7491815.9 | E40: 4969238.5 | F40: 3059334.3 | G40: =SUM(G37:G39) -> 16936717
A42: Taux d'auto-financement: | C42: =IF(C40=0,"",C39/C40) -> 0.80918443 | D42: =IF(D40=0,"",D39/D40) -> 0.30302567 | E42: =IF(E40=0,"",E39/E40) -> 0.36963429 | F42: =IF(F40=0,"",F39/F40) -> 0.87581296 | G42: =IF(G40=0,"",G39/G40) -> 0.46836049
E69: 2-7: Les dépenses extraordinaires d'investissement (groupe économique 91)
E70: Investissements , dépenses imputées dans l'exercice par nature fonctionnelle
C71: INVESTISSEMENTS | E71: Fonctions | G71: =H71-1 -> 2021 | H71: =I71-1 -> 2022 | I71: =J71-1 -> 2023 | J71: =K2 -> 2024 | K71: Totaux
...

Sheet Dette
A1: SYNTHESE ANALYTIQUE | C1: Administration communale de: | E1: =Coordonnées!C1 -> GOUVY | G1: Code INS | H1: =Coordonnées!E1 -> 82037
G2: Exercice: | H2: =Coordonnées!E2 -> 2024
B4: 5 | C4: Etat de l'endettement de la commune
C5: 5-1 La dette financière
B6: Exercices: | C6: =D6-1 -> 2021 | D6: =E6-1 -> 2022 | E6: =F6-1 -> 2023 | F6: =H2 -> 2024
A7: 1. | B7: Dette part propre
B8: Encours au 31/12 | C8: 7410521 | D8: 8857702.6 | E8: 8114958 | F8: 7256821.5
B9: Remboursements | C9: 860945.93 | D9: 936666.44 | E9: 951975.83 | F9: 881877.75
B10: Intérêts | C10: 239004.86 | D10: 247206.78 | E10: 249774.1 | F10: 229304.28
B11: Charges totales | C11: =SUM(C9:C10) -> 1099950.8 | D11: =SUM(D9:D10) -> 1183873.2 | E11: =SUM(E9:E10) -> 1201749.9 | F11: =SUM(F9:F10) -> 1111182
B12: Durée théorique moy de remboursement | C12: =IF(C9<>0,C8/C9,"") -> 8.6074174 | D12: =IF(D9<>0,D8/D9,"") -> 9.4566242 | E12: =IF(E9<>0,E8/E9,"") -> 8.524332 | F12: =IF(F9<>0,F8/F9,"") -> 8.2288294
A13: 2. | B13: Dette d'assainissement (CRAC)
B14: Encours au 31/12 | C14: 0 | D14: 0 | E14: 0 | F14: 0
A15: 2.a. | B15: Part communale
B16: Remboursements | C16: 0 | D16: 0 | E16: 0 | F16: 0
B17: Intérêts | C17: 0 | D17: 0 | E17: 0 | F17: 0
B18: Charges totales | C18: =SUM(C16:C17) -> 0 | D18: =SUM(D16:D17) -> 0 | E18: =SUM(E16:E17) -> 0 | F18: =SUM(F16:F17) -> 0
A19: 2.b. | B19: Part régionale (CRAC)
B20: Remboursements | C20: 2150.8 | D20: 2150.8 | E20: 2150.81 | F20: 1593.23
B21: Intérêts
B22: Charges totales | C22: =SUM(C20:C21) -> 2150.8 | D22: =SUM(D20:D21) -> 2150.8 | E22: =SUM(E20:E21) -> 2150.81 | F22: =SUM(F20:F21) -> 1593.23
A24: 3. | B24: Dette Part Etat
B25: Encours au 31/12 | C25: 225756.26 | D25: 209506.66 | E25: 193257.06 | F25: 177007.46
B26: Remboursements | C26: 16249.6 | D26: 16249.6 | E26: 16249.6 | F26: 16249.6
B27: Intérêts | C27: 4274.34 | D27: 5726.71 | E27: 6717.38 | F27: 6227.49
B28: Charges totales | C28: =C26+C27 -> 20523.94 | D28: =D26+D27 -> 21976.31 | E28: =E26+E27 -> 22966.98 | F28: =F26+F27 -> 22477.09
A30: 4. | B30: Dette pour Tiers
B31: Encours au 31/12 | C31: 0 | D31: 0 | E31: 0 | F31: 0
B32: Remboursements | C32: 0 | D32: 0 | E32: 0 | F32: 0
B33: Intérêts | C33: 0 | D33: 0 | E33: 0 | F33: 0
B34: Charges totales | C34: =C32+C33 -> 0 | D34: =D32+D33 -> 0 | E34: =E32+E33 -> 0 | F34: =F32+F33 -> 0
A36: 5. | B36: Dette garantie par la commune
B37: Encours
B39: Encours part communale (=1+2.a) | C39: =C11+C18 -> 1099950.8 | D39: =D11+D18 -> 1183873.2 | E39: =E11+E18 -> 1201749.9 | F39: =F11+F18 -> 1111182
B40: Total des intérêts supportés par la commune | C40: =C10+C17 -> 239004.86 | D40: =D10+D17 -> 247206.78 | E40: =E10+E17 -> 249774.1 | F40: =F10+F17 -> 229304.28
A44: SYNTHESE ANALYTIQUE | C44: Administration communale de: | E44: =E1 -> GOUVY | G44: Code INS | H44: =H1 -> 82037
G45: Exercice: | H45: =H2 -> 2024
C47: 5-2 La dette à court terme: (fournisseurs, tiers , …)
B48: =B6 -> Exercices: | C48: =C6 -> 2021 | D48: =D6 -> 2022 | E48: =E6 -> 2023 | F48: =F6 -> 2024
A49: 44000 | B49: Fournisseurs | C49: 389523.42 | D49: 172712.95 | E49: 1062243.7 | F49: 827927.5
...

Sheet Réserves et provisions
A1: SYNTHESE ANALYTIQUE | B1: Administration communale de: | D1: =Coordonnées!C1 -> GOUVY | F1: Code INS | G1: =Coordonnées!E1 -> 82037
F2: Exercice: | G2: =Coordonnées!E2 -> 2024
A4: 7 Etat des réserves et des provisions
A7: Fonds de réserve ordinaire | B7: Solde Initial | C7: Alimentation | D7: Utilisation | E7: Solde 31/12
A8: =A9-1 -> 2021 | B8: =E8+D8-C8 -> 158024 | C8: 0 | D8: 0 | E8: 158024
A9: =A10-1 -> 2022 | B9: =E9+D9-C9 -> 158024 | C9: 0 | D9: 0 | E9: 158024
A10: =A11-1 -> 2023 | B10: =E10+D10-C10 -> 158024 | C10: 0 | D10: 0 | E10: 158024
A11: =G2 -> 2024 | B11: =E11+D11-C11 -> 158024 | C11: 0 | D11: 0 | E11: 158024
A13: Fonds de réserve extraordinaire | B13: Solde Initial | C13: Alimentation | D13: Utilisation | E13: Solde 31/12
A14: =A15-1 -> 2021 | B14: =E14+D14-C14 -> 2337813.8 | C14: 1432960.9 | D14: 927041.81 | E14: 2843732.8
A15: =A16-1 -> 2022 | B15: =E15+D15-C15 -> 2843732.8 | C15: 3239651.3 | D15: 2095038.6 | E15: 3988345.4
A16: =A17-1 -> 2023 | B16: =E16+D16-C16 -> 3988345.4 | C16: 740051.55 | D16: 1773188.9 | E16: 2955208.1
A17: =G2 -> 2024 | B17: =E17+D17-C17 -> 2955208.1 | C17: 1746523.7 | D17: 2568773.4 | E17: 2132958.4
A19: Provisions pour risques et charges: | B19: Solde Initial | C19: Alimentation | D19: Utilisation | E19: Solde 31/12
A20: =A21-1 -> 2021 | B20: =E20+D20-C20 -> 536066.87 | C20: 0 | D20: 5600 | E20: 530466.87
A21: =A22-1 -> 2022 | B21: =E21+D21-C21 -> 530466.87 | C21: 649000 | D21: 430900 | E21: 748566.87
A22: =A23-1 -> 2023 | B22: =E22+D22-C22 -> 748566.87 | C22: 164762 | D22: 6000 | E22: 907328.87
A23: =G2 -> 2024 | B23: =E23+D23-C23 -> 907328.87 | C23: 750000 | D23: 57200 | E23: 1600128.9

Sheet Trésorerie
A1: SYNTHESE ANALYTIQUE | B1: Administration communale de: | D1: =Coordonnées!C1 -> GOUVY | F1: Code INS | G1: =Coordonnées!E1 -> 82037
F2: Exercice: | G2: =Coordonnées!E2 -> 2024
A3: 6-1 Etat et rendement de la trésorerie
A5: Etat de la trésorerie au 31/12 | B5: =C5-1 -> 2021 | C5: =D5-1 -> 2022 | D5: =E5-1 -> 2023 | E5: =G2 -> 2024
A6: Trésorerie courante | B6: 6529358.7 | C6: 10091862 | D6: 12071105 | E6: 10112097
A7: Trésorerie des emprunts | B7: 5 | C7: 5 | D7: 5 | E7: 5
A8: Crédit de trésorerie court terme
A9: Totaux: | B9: =SUM(B6:B8) -> 6529363.7 | C9: =SUM(C6:C8) -> 10091867 | D9: =SUM(D6:D8) -> 12071110 | E9: =SUM(E6:E8) -> 10112102
A10: Intérêts et produits(total au 31/12)
A11: Intérêts débiteurs | B11: 133.04 | C11: 2.98 | D11: 63.36 | E11: 8.69
A12: Intérêts créditeurs | B12: 0 | C12: 190.69 | D12: 7073.31 | E12: 8780.48
A13: Produits des placements | B13: 318.05 | C13: 2578.02 | D13: 51154.24 | E13: 286405.22
A14: Précomptes et taxes sur placements | B14: 0 | C14: 0 | D14: 0 | E14: 0
A15: Rendement net de la trésorerie | B15: =B12-B11-B14+B13 -> 185.01 | C15: =C12-C11-C14+C13 -> 2765.73 | D15: =D12-D11-D14+D13 -> 58164.19 | E15: =E12-E11-E14+E13 -> 295177.01
A17: Volume total des placement > à 1 an:
A18: Fonds placés pour dons et legs:

Sheet Trésorerie 2
A1: SYNTHESE ANALYTIQUE | B1: Administration communale de: | D1: =Coordonnées!C1 -> GOUVY | F1: Code INS | G1: =Coordonnées!E1 -> 82037
F2: Exercice: | G2: =Coordonnées!E2 -> 2024
A3: 6-2 Evolution de la trésorerie au cours du dernier exercice
A5: Solde de trésorerie courante à l'issue de chaque mois (sur base des situations mensuelles de caisse)
B6: Solde | C6: Recettes | D6: Dépenses | E6: Transferts
A7: 1er janvier | B7: 2462011.1
A8: janvier | B8: 1039626.6 | C8: 1092075.8 | D8: 2548945 | E8: 34484.64
A9: février | B9: -111961.17 | C9: 1503649.9 | D9: 2176633.4 | E9: -478604.18
A10: mars | B10: -376.77 | C10: 256040.94 | D10: 1250277.7 | E10: 1105821.2
A11: avril | B11: -438785.04 | C11: 889579.88 | D11: 1284937.6 | E11: -43050.55
A12: mai | B12: -33920.07 | C12: 1595315.8 | D12: 1690052.3 | E12: 499601.55
A13: juin | B13: 333158.75 | C13: 727170.52 | D13: 1063001.6 | E13: 702909.86
A14: juillet | B14: -869759.61 | C14: 830184.99 | D14: 2034056.3 | E14: 952.95
A15: août | B15: -803545.32 | C15: 3106595.7 | D15: 3042083.6 | E15: 1702.26
A16: septembre | B16: -1120204.7 | C16: 665845.01 | D16: 983874.47 | E16: 1370.08
A17: octobre | B17: -1062660.3 | C17: 1363488.6 | D17: 1307218.8 | E17: 1274.57
A18: novembre | B18: -915375.03 | C18: 2014239 | D18: 1666936.8 | E18: -200017
A19: décembre | B19: 684527.45 | C19: 1951480.6 | D19: 2354781.5 | E19: 2003203.3
B20: Volume annuel: | C20: =SUM(C8:C19) -> 15995667 | D20: =SUM(D8:D19) -> 21402799 | E20: =SUM(E8:E19) -> 3629648.7
F42: =B6 -> Solde
E43: =A7 -> 1er janvier | F43: =B7 -> 2462011.1
E44: =A8 -> janvier | F44: =B8 -> 1039626.6
E45: =A9 -> février | F45: =B9 -> -111961.17
E46: =A10 -> mars | F46: =B10 -> -376.77
E47: =A11 -> avril | F47: =B11 -> -438785.04
E48: =A12 -> mai | F48: =B12 -> -33920.07
E49: =A13 -> juin | F49: =B13 -> 333158.75
E50: =A14 -> juillet | F50: =B14 -> -869759.61
E51: =A15 -> août | F51: =B15 -> -803545.32
E52: =A16 -> septembre | F52: =B16 -> -1120204.7
E53: =A17 -> octobre | F53: =B17 -> -1062660.3
E54: =A18 -> novembre | F54: =B18 -> -915375.03
E55: =A19 -> décembre | F55: =B19 -> 684527.45

Sheet Actifs immobilisés
A1: SYNTHESE ANALYTIQUE | B1: Administration communale de: | E1: =Coordonnées!C1 -> GOUVY | G1: Code INS | H1: =Coordonnées!E1 -> 82037
G2: Exercice: | H2: =Coordonnées!E2 -> 2024
A4: 8 Tableau synthétique des mutations de l'actif immobilisé | E4: Mutations en + Acquisitions et investissements | F4: Mutations en - Ventes | G4: Réévaluations | H4: Amortissements
J5: EVALUATION DES OPERATIONS DE L'EXERCICE
C6: =D6-1 -> 2023 | D6: =H2 -> 2024
A7: I .Immobilisations incorporelles | B7: 21 | C7: 93222.85 | D7: 50091.45 | E7: 13584.91 | F7: 0 | G7: 0 | H7: 56716.31 | J7: L'évaluation des opérations de l'exercice a été réalisée conformément à la législation
A8: II.Immobilisations corporelles | B8: 22/26 | C8: =C9+C15+C18 -> 42256794 | D8: =D9+D15+D18 -> 48137821 | E8: =E9+E15+E18 -> 7204987.4 | F8: =F9+F15+F18 -> 266399.55 | G8: =G9+G15+G18 -> 368274.23 | H8: =H9+H15+H18 -> 1425834.2 | J8: en vigueur.
A9: Patrimoine immobilier | C9: =SUM(C10:C14) -> 38819319 | D9: =SUM(D10:D14) -> 39237459 | E9: =SUM(E10:E14) -> 1540308.3 | F9: =SUM(F10:F14) -> 266399.55 | G9: =SUM(G10:G14) -> 368274.23 | H9: =SUM(H10:H14) -> 1224042.5
A10: A. Terres et terrains non bâtis .......................................................................................................... | B10: 220 | C10: 11116551 | D10: 10985282 | E10: 109742.83 | F10: 266399.55 | G10: 43446.74 | H10: 18059.33 | J10: Il convient notamment de noter que les réévaluations ont été établies :
A11: B. Constructions et leurs terrains ........................................................................................................... | B11: 221 | C11: 13543345 | D11: 14049618 | E11: 977658.01 | F11: 0 | G11: 195361.63 | H11: 666746.51
A12: C. Voiries .......................................................................................................... | B12: 223 | C12: 14118106 | D12: 14162845 | E12: 452907.45 | F12: 0 | G12: 129465.86 | H12: 537635.12 | J12: - pour les terrains, sur base du rendement du centime additionnel. Celui-ci est de
A13: D. Ouvrages d'art .......................................................................................................... | B13: 224 | C13: 41316.38 | D13: 39714.88 | E13: 0 | F13: 0 | G13: 0 | H13: 1601.5 | J13: 14932.5 | K13: pour l'exercice en cours contre | M13: 14723.82 | N13: pour l'exercice précédent.
A14: E. Cours et plans d'eau .......................................................................................................... | B14: 226 | C14: 0 | D14: 0 | E14: 0 | F14: 0 | G14: 0 | H14: 0
A15: Patrimoine mobilier | C15: =SUM(C16:C17) -> 800195.65 | D15: =SUM(D16:D17) -> 869554.98 | E15: =SUM(E16:E17) -> 271151.07 | F15: =SUM(F16:F17) -> 0 | G15: =SUM(G16:G17) -> 0 | H15: =SUM(H16:H17) -> 201791.74 | J15: Taux du réajustement
A16: F. Mobilier, matériel, équipements et sign. routière.......................................................................................................... | B16: 230/3 | C16: 791170.69 | D16: 860530.02 | E16: 262485.21 | F16: 0 | G16: 0 | H16: 193125.88 | J16: C.Ad. Ex. N - C.Ad. Ex N-1/ | L16: =IF(M13=0,"",(J13-M13)/M13) -> 0.014172952
A17: G. Patrimoine artistique et mobilier divers .......................................................................................................... | B17: 234 | C17: 9024.96 | D17: 9024.96 | E17: 8665.86 | F17: 0 | G17: 0 | H17: 8665.86 | J17: C.Ad. Ex N-1
A18: Autres immobilisations | C18: =SUM(C19:C21) -> 2637279.2 | D18: =SUM(D19:D21) -> 8030807.2 | E18: =SUM(E19:E21) -> 5393528 | F18: =SUM(F19:F21) -> 0 | G18: =SUM(G19:G21) -> 0 | H18: =SUM(H19:H21) -> 0
A19: H. Immobilisations en cours d'exécution ........................................................................................................... | B19: 24 | C19: 2637279.2 | D19: 8030807.2 | E19: 5393528 | F19: 0 | G19: 0 | H19: 0 | J19: - pour les bâtiments, sur base de l'indice ABEX. Celui-ci est de | N19: 1048 | O19: pour l'exercice en
A20: I. Droits réels d'emphythéoses et superficies .......................................................................................................... | B20: 261 | C20: 0 | D20: 0 | E20: 0 | F20: 0 | G20: 0 | H20: 0 | J20: cours contre | K20: 1032 | L20: pour l'exercice précédent.
A21: J. Immobilisations en location-financement .......................................................................................................... | B21: 262/3 | C21: 0 | D21: 0 | E21: 0 | F21: 0 | G21: 0 | H21: 0
A22: III.Subsides d'investissements accordés | B22: 25 | C22: =SUM(C23:C26) -> 252681.9 | D22: =SUM(D23:D26) -> 239386.76 | E22: =SUM(E23:E26) -> 17662.08 | F22: =SUM(F23:F26) -> 0 | G22: =SUM(G23:G26) -> 0 | H22: =SUM(H23:H26) -> 30957.22 | J22: Taux du réajustement
A23: A. Aux entreprises privées .......................................................................................................... | B23: 251 | C23: 0 | D23: 0 | E23: 0 | F23: 0 | G23: 0 | H23: 0 | J23: ABEX Ex. N - ABEX Ex N-1 | L23: =IF(K20=0,"",(N19-K20)/K20) -> 0.015503876
A24: B. Aux ménages, ASBL et autres organismes .......................................................................................................... | B24: 252 | C24: 186659.24 | D24: 185308.68 | E24: 17472.13 | F24: 0 | G24: 0 | H24: 18822.69 | J24: ABEX Ex N-1
A25: C. A l'Autorité supérieure .......................................................................................................... | B25: 254 | C25: 0 | D25: 0 | E25: 0 | F25: 0 | G25: 0 | H25: 0
A26: D. Aux autres pouvoirs publics .......................................................................................................... | B26: 256 | C26: 66022.66 | D26: 54078.08 | E26: 189.95 | F26: 0 | G26: 0 | H26: 12134.53 | J26: Si il a été fait exception aux règles légales , veuillez en détailler la raison ci-après:
A27: IV.Promesses de subsides et prêts accordés | B27: 27 | C27: =SUM(C28:C29) -> 4876138.6 | D27: =SUM(D28:D29) -> 2720837.3 | E27: =SUM(E28:E29) -> -2189815.4 | F27: =SUM(F28:F29) -> -34514.14 | G27: =SUM(G28:G29) -> 0 | H27: =SUM(H28:H29) -> 0
A28: A. Promesse de subsides à recevoir........................................................................................................... | B28: 270/4 | C28: 4895735.3 | D28: 2676919.9 | E28: -2213815.4 | F28: 5000 | G28: 0 | H28: 0
A29: B. Prêts accordés .......................................................................................................... | B29: 275 | C29: -19596.73 | D29: 43917.41 | E29: 24000 | F29: -39514.14 | G29: 0 | H29: 0
A30: V.Autres actifs financiers | B30: 28 | C30: =SUM(C31:C32) -> 1631534.1 | D30: =SUM(D31:D32) -> 1642611.2 | E30: =SUM(E31:E32) -> 11077.18 | F30: =SUM(F31:F32) -> 0 | G30: =SUM(G31:G32) -> 0 | H30: =SUM(H31:H32) -> 0
A31: A. Participations et titres à revenus fixes .......................................................................................................... | B31: 282/5 | C31: 1631534.1 | D31: 1642611.2 | E31: 11077.18 | F31: 0 | G31: 0 | H31: 0
A32: B. Cautionnements versés à plus d'un an .......................................................................................................... | B32: 288 | C32: 0 | D32: 0 | E32: 0 | F32: 0 | G32: 0 | H32: 0
B33: Totaux | C33: =C7+C9+C15+C18+C22+C27+C30 -> 49110371 | D33: =D7+D9+D15+D18+D22+D27+D30 -> 52790748 | E33: =E7+E9+E15+E18+E22+E27+E30 -> 5057496.1 | F33: =F7+F9+F15+F18+F22+F27+F30 -> 231885.41 | G33: =G7+G9+G15+G18+G22+G27+G30 -> 368274.23 | H33: =H7+H9+H15+H18+H22+H27+H30 -> 1513507.7
C34: Variation: | D34: =D33-C33 -> 3680377.2 | E34: =E33-F33+G33-H33 -> 3680377.2 | F34: <total des mutations,réévaluations et amortissements

Sheet Tiers subsidiés
A1: SYNTHESE ANALYTIQUE | C1: Administration communale de: | E1: =Coordonnées!C1 -> GOUVY | F1: Code INS | G1: =Coordonnées!E1 -> 82037
F2: Exercice: | G2: =Coordonnées!E2 -> 2024
B3: 10- Récapitulatif des tiers subsidiés
C4: Montants des subsides accordés
A5: C.généraux: | B5: Catégories de tiers | C5: =D5-1 -> 2021 | D5: =E5-1 -> 2022 | E5: =F5-1 -> 2023 | F5: =G2 -> 2024
A6: 63110 | B6: Subventions d'exploitation aux entreprises en intérêts | C6: 0 | D6: 0 | E6: 0 | F6: 0
A7: 63121 | B7: Subventions directes d'exploitation aux entreprises | C7: 15000 | D7: 7000 | E7: 3000 | F7: 3000
A8: 63122 | B8: Subventions indirectes d'exploitation aux entreprises | C8: 200 | D8: 3200 | E8: 200 | F8: 200
A9: 63211 | B9: Primes et subventions directes aux ménages | C9: 44935.45 | D9: 56679.67 | E9: 45426.34 | F9: 60217.08
A10: 63212 | B10: Primes et subventions indirectes versées aux ménages | C10: 333783.75 | D10: 312954.97 | E10: 342465.69 | F10: 363728.89
A11: 63411 | B11: Subventions à l'Etat pour frais fonct.de l'enseignement | C11: 0 | D11: 0 | E11: 0 | F11: 0
A12: 63412 | B12: Contr.fr.de fonct.et rémunérations supportées par l'Etat | C12: 41311.3 | D12: 0 | E12: 0 | F12: 0
A13: 63611 | B13: Contributions dans rémunération et pension de l'enseignement | C13: 0 | D13: 0 | E13: 0 | F13: 0
A14: 63612 | B14: Contributions aux frais de fonctionnement de l'enseignement | C14: 871 | D14: 985.59 | E14: 1026.8 | F14: 2104.32
A15: 63613 | B15: Contributions aux charges financières des pouvoirs publics | C15: 0 | D15: 0 | E15: 0 | F15: 0
A16: 63617 | B16: Contributions aux frais fonct.des autres pouvoirs publics | C16: 1237612.6 | D16: 1204774.3 | E16: 1294324.8 | F16: 1405589.1
A17: 63618 | B17: Contributions dans le déficit des hopitaux publics | C17: 47503.59 | D17: 19578.01 | E17: 21354.33 | F17: 29360.46
B18: Total | C18: =SUM(C6:C17) -> 1721217.7 | D18: =SUM(D6:D17) -> 1605172.5 | E18: =SUM(E6:E17) -> 1707798 | F18: =SUM(F6:F17) -> 1864199.8
A36: SYNTHESE ANALYTIQUE | B36: Annexe au point 10: | C36: =C1 -> Administration communale de: | E36: =E1 -> GOUVY | F36: =F1 -> Code INS | G36: =G1 -> 82037
F37: =F2 -> Exercice: | G37: =G2 -> 2024
B39: Organismes et tiers ayant bénéficié d'un subside ou transfert de plus de : | D39: 10000
B41: Noms: | C41: Compte Particulier | D41: Montants octroyés au 31/12
B42: CPAS DE GOUVY | C42: 002100000000066 | D42: 677310.98
B43: ZONE DE POLICE FAMENNE-ARDENNE | C43: 002100000091006 | D43: 345350.43
B44: ZONE DE SECOURS UNIQUE | C44: 002100000091861 | D44: 287848.93
B45: VIVALIA | C45: 002100000000562 | D45: 71581.1
B46: S.I. OURTHE ORIENTALE (SYNDICAT D'INITIATIVE GOUVY | C46: 002100000000189 | D46: 52422.52
B47: F.E. OURTHE | C47: 002100000000023 | D47: 33098.22
B48: KLINIK ST-JOSEPH | C48: 002100000091300 | D48: 28040
B49: F.E. GOUVY-PAROISSE | C49: 002100000000022 | D49: 21185.49
B50: IDELUX DEVELOPPEMENT | C50: 002100000000658 | D50: 20012.95
B51: C.M.H CENTRE MEDICAL HELIPORTE ASBL | C51: 002100000000669 | D51: 15000
B52: C'EST TOUT COMM | C52: 002100000092492 | D52: 15000
B53: IDELUX EAU | C53: 002100000092063 | D53: 12062.6
... B57: CERCLE HORTICOLE "LES TILLEULS" | C57: 002100000091583 | D57: 10621.86

Sheet Principaux fournisseurs
A1: SYNTHESE ANALYTIQUE | E1: =Coordonnées!C1 -> GOUVY | G1: Code INS | H1: =Coordonnées!E1 -> 82037
G2: Exercice: | H2: =Coordonnées!E2 -> 2024
A4: 11. Les principaux fournisseurs
A6: Liste des fourniseurs dont le total des commandes a atteint au moins: | D6: 10000 | E6: au 31/12
A8: Noms: | C8: Total des commandes | D8: (totalisation sur base des comptes particuliers)
A9: MOURY | B9: 0403907307 | C9: 2799157.1
A10: ROBERTY | B10: 0425229093 | C10: 1277834.5
A11: SPGE | B11: 0420651980 | C11: 829205.18
A12: IDELUX ENVIRONNEMENT | B12: 0729610739 | C12: 514825.17
A13: ENTREPRISE B. DEUMER | B13: 0430151547 | C13: 461316.5
A14: ETHIAS S.A. | B14: 0404484654 | C14: 185680.8
A15: ETS GOOSSE | B15: 0430694450 | C15: 177184.54
A16: LUMINUS | B16: 0471811661 | C16: 169172.6
A17: COMFORT ENERGY S.A. | B17: 0458280458 | C17: 137830.43
A18: TOTALENERGIES POWER _ GAS BELGIUM (LAMPIRIS) | B18: 0859655570 | C18: 91847.53
A19: CIVADIS | B19: 0861023666 | C19: 84281.01
A20: SODELUX | B20: 0449122767 | C20: 81471.15
... A79: WERGIFOSSE MICHEL | B79: 0866377967 | C79: 10039

Sheet ratios
A1: SYNTHESE ANALYTIQUE | B1: Administration communale de: | D1: =Coordonnées!C1 -> GOUVY | E1: Code INS | F1: =Coordonnées!E1 -> 82037
E2: Exercice: | F2: =Coordonnées!E2 -> 2024
A4: 12: Indicateurs et ratios
A5: Evolution du chiffre de la population: | B5: ='Carte Identité'!$C$12 -> 5403 | C5: ='Carte Identité'!$C$13 -> 5487 | D5: ='Carte Identité'!$C$14 -> 5473 | E5: ='Carte Identité'!$C$15 -> 5465
A6: Ratios budgétaires: | B6: =C6-1 -> 2021 | C6: =D6-1 -> 2022 | D6: =E6-1 -> 2023 | E6: =F2 -> 2024
A7: Résultat budgétaire exercice propre par habitant | B7: =IF(B5=0,"",'Résultat Budgétaire'!B15/B5) -> 182.39352 | C7: =IF(C5=0,"",'Résultat Budgétaire'!C15/C5) -> 169.53592 | D7: =IF(D5=0,"",'Résultat Budgétaire'!D15/D5) -> 312.07903 | E7: =IF(E5=0,"",'Résultat Budgétaire'!E15/E5) -> 174.81983
A8: Résultat budgétaire global par habitant | B8: =IF(B5=0,"",'Résultat Budgétaire'!B17/B5) -> 430.76709 | C8: =IF(C5=0,"",'Résultat Budgétaire'!C17/C5) -> 360.07921 | D8: =IF(D5=0,"",'Résultat Budgétaire'!D17/D5) -> 568.53714 | E8: =IF(E5=0,"",'Résultat Budgétaire'!E17/E5) -> 497.98613
A9: Ratios sur recettes | B9: Recettes budgétaires
A10: Recettes ordinaires par habitant | B10: =IF(B5=0,"",'Recettes budgétaires ordinaires'!B54/B5) -> 1862.2227 | C10: =IF(C5=0,"",'Recettes budgétaires ordinaires'!C54/C5) -> 2090.5089 | D10: =IF(D5=0,"",'Recettes budgétaires ordinaires'!D54/D5) -> 2321.3583 | E10: =IF(E5=0,"",'Recettes budgétaires ordinaires'!E54/E5) -> 2347.6393
A11: Recettes de prestation par habitant | B11: =IF(B5=0,"",'Recettes budgétaires ordinaires'!B14/B5) -> 445.82689 | C11: =IF(C5=0,"",'Recettes budgétaires ordinaires'!C14/C5) -> 444.71905 | D11: =IF(D5=0,"",'Recettes budgétaires ordinaires'!D14/D5) -> 481.1328 | E11: =IF(E5=0,"",'Recettes budgétaires ordinaires'!E14/E5) -> 512.39441
A12: Recettes de transfert par habitant | B12: =IF(B5=0,"",'Recettes budgétaires ordinaires'!B43/B5) -> 1408.3845 | C12: =IF(C5=0,"",'Recettes budgétaires ordinaires'!C43/C5) -> 1560.7734 | D12: =IF(D5=0,"",'Recettes budgétaires ordinaires'!D43/D5) -> 1822.173 | E12: =IF(E5=0,"",'Recettes budgétaires ordinaires'!E43/E5) -> 1764.5923
A13: Recettes de dette par habitant | B13: =IF(B5=0,"",'Recettes budgétaires ordinaires'!B52/B5) -> 6.9748603 | C13: =IF(C5=0,"",'Recettes budgétaires ordinaires'!C52/C5) -> 6.4853964 | D13: =IF(D5=0,"",'Recettes budgétaires ordinaires'!D52/D5) -> 16.956291 | E13: =IF(E5=0,"",'Recettes budgétaires ordinaires'!E52/E5) -> 60.186035
